BEGIN:VCALENDAR
VERSION:2.0
PRODID:-//OmniMagnetCalendar//EN
BEGIN:VEVENT
DTSTAMP:20190625T195740Z
STATUS:CONFIRMED
UID:hccroatia.clubs.harvard.edu263
DTSTART:20191223T170000Z
DTEND:20191223T183000Z
LOCATION:Gourmet Bar Basta, Varsavska 5, Zagreb, 10000, Croatia,
SUMMARY:Newly Admitted Student Reception
DESCRIPTION:
BEGIN:VALARM
TRIGGER:-PT15M
ACTION:DISPLAY
END:VALARM
TRANSP:OPAQUE
END:VEVENT
END:VCALENDAR
