BEGIN:VCALENDAR
VERSION:2.0
PRODID:-//OmniMagnetCalendar//EN
BEGIN:VEVENT
DTSTAMP:20190625T195740Z
STATUS:CONFIRMED
UID:hccroatia.clubs.harvard.edu268
DTSTART:20240504T170000Z
DTEND:20240504T210000Z
LOCATION:
SUMMARY:Harvard Prize Book Award  - Award ceremony
DESCRIPTION:
BEGIN:VALARM
TRIGGER:-PT15M
ACTION:DISPLAY
END:VALARM
TRANSP:OPAQUE
END:VEVENT
END:VCALENDAR
